BEGIN:VCALENDAR
VERSION:2.0
PRODID:-//Moritz Heuberger - ECPv6.15.20//NONSGML v1.0//EN
CALSCALE:GREGORIAN
METHOD:PUBLISH
X-ORIGINAL-URL:https://moritzheuberger.de
X-WR-CALDESC:Veranstaltungen für Moritz Heuberger
REFRESH-INTERVAL;VALUE=DURATION:PT1H
X-Robots-Tag:noindex
X-PUBLISHED-TTL:PT1H
BEGIN:VTIMEZONE
TZID:UTC
BEGIN:STANDARD
TZOFFSETFROM:+0000
TZOFFSETTO:+0000
TZNAME:UTC
DTSTART:20240101T000000
END:STANDARD
END:VTIMEZONE
BEGIN:VEVENT
DTSTART;TZID=UTC:20250115T190000
DTEND;TZID=UTC:20250115T210000
DTSTAMP:20260419T134054
CREATED:20250109T092729Z
LAST-MODIFIED:20250109T142521Z
UID:517-1736967600-1736974800@moritzheuberger.de
SUMMARY:Ricarda Lang\, Wie wird das Leben bezahlbar?
DESCRIPTION:Ricarda Lang\, Wie wird das Leben bezahlbar?\n\n\n\nSteigenden Preise an der Supermarktkasse\, teure Stromrechnungen und unbezahlbare Mieten sind Themen\, die unseren Alltag prägen. Diese drängenden sozialen Fragen verlangen nach politischen Antworten. Auch der dringend notwendige Klimaschutz muss sozial gerecht gestaltet werden und darf nicht dazu führen\, dass unser Leben teurer wird. \n\n\n\nAm Mittwoch\, den 15. Januar 2025\, laden wir herzlich zu einer spannenden Diskussion ein. Der grüne Direktkandidat für Tempelhof-Schöneberg hat die ehemalige Bundesvorsitzende von Bündnis 90/Die Grünen Ricarda Lang zu Gast. \n\n\n\nGemeinsam sprechen Ricarda Lang und Moritz Heuberger darüber\, wie wir\, bezahlbares Wohnen schaffen\, und wie wir Klimaschutz so gestalten\, dass niemand zurückgelassen wird. \n\n\n\nAußerdem wird es genügend Raum für Fragen und einen lockeren Austausch geben.  \n\n\n\nWir freuen uns auf Sie!
URL:https://moritzheuberger.de/termin/ricarda-lang-wie-wird-das-leben-bezahlbar/
LOCATION:Berlin Recycling\, Monumentenstraße 14\, Berlin\, 10829
ATTACH;FMTTYPE=image/png:https://moritzheuberger.de/wp-content/uploads/2025/01/250115-Ricarda-Lang-Website-1.png
ORGANIZER;CN="Kreisverband Tempelhof-Sch%C3%B6neberg":MAILTO:kiezbuero@gruene-ts.de
END:VEVENT
BEGIN:VEVENT
DTSTART;TZID=UTC:20250121T180000
DTEND;TZID=UTC:20250121T200000
DTSTAMP:20260419T134054
CREATED:20250108T141549Z
LAST-MODIFIED:20250122T120356Z
UID:511-1737482400-1737489600@moritzheuberger.de
SUMMARY:Dr. Ulf Buermeyer: Wie investieren wir in die Demokratie?
DESCRIPTION:Dr. Ulf Buermeyer: Wie investieren wir in die Demokratie?\n\n\n\nWie gefährdet ist unsere Demokratie durch den Rechtsruck und die AfD? Wie hängt das mit mangelnden Investitionen in unsere Infrastruktur zusammen? Und wie schaffen wir endlich einen modernen Staat\, der für die Menschen funktioniert?Diesen und weiteren Fragen widmet sich Moritz Heuberger\, Bundestagskandidat für Tempelhof-Schöneberg\, gemeinsam mit dem Juristen Dr. Ulf Buermeyer\, bekannt aus dem erfolgreichen Politikpodcast „Lage der Nation“. \n\n\n\nFreuen Sie sich auf eine spannende Diskussion zu den Themen: \n\n\n\n\nWie stoppen wir den Rechtsruck und schützen unsere Demokratie?\n\n\n\nWarum verhindern mangelnde Investitionen Fortschritt und Zusammenhalt?\n\n\n\nWie schaffen wir einen modernen\, digitalen Staat?\n\n\n\n\nNach einem moderierten Gespräch können Sie Ihre eigenen Fragen stellen. Seien Sie dabei und diskutieren Sie mit! \n\n\n\nLive-Übertragung\n\n\n\nDie Übertragung kann auch weiterhin angeschaut werden. \n\n\n\n\nLink zur Live-Übertragung
URL:https://moritzheuberger.de/termin/dr-ulf-buermeyer-wie-investieren-wir-in-die-demokratie-2/
LOCATION:„Spukvilla“\, Albrechtstrasse 110\, Berlin\, Berlin\, 12103\, Germany
ATTACH;FMTTYPE=image/png:https://moritzheuberger.de/wp-content/uploads/2025/01/250121-Ulf-Buermeyer-Website-1.png
END:VEVENT
BEGIN:VEVENT
DTSTART;TZID=UTC:20250123T193000
DTEND;TZID=UTC:20250123T210000
DTSTAMP:20260419T134054
CREATED:20250113T091218Z
LAST-MODIFIED:20250113T123854Z
UID:548-1737660600-1737666000@moritzheuberger.de
SUMMARY:Kneipenabend
DESCRIPTION:Freibier mit Moritz Heuberger\n\n\n\nWie können Sie direkt mit Ihrem Bundestagskandidaten ins Gespräch kommen? Ganz einfach: Besuchen Sie einen unserer Kneipenabende im Bezirk! \n\n\n\n📍 Wo?  \n\n\n\n \n\n\n\nRudi & RosaViktoriastraße 10\, 12105 Tempelhof \n\n\n\n💬 Was erwartet Sie?\n\n\n\n\nEin lockeres Gespräch mit Moritz Heuberger\, Direktkandidat der Grünen für Tempelhof-Schöneberg bei der anstehenden Bundestagswahl\n\n\n\nDie erste Runde geht auf uns – ob Bier\, Alkoholfrei oder Limo.\n\n\n\nEine Möglichkeit\, Fragen zu stellen und ins Gespräch zu kommen.\n\n\n\n\n🍻Warum „Freibier“? \n\n\n\nMoritz Heuberger kämpft für ein Leben\, das bezahlbar ist – und das schließt auch ein erschwingliches Feierabendbier mit ein. Gerade in Zeiten von Inflation\, möchten wir den Anstieg von Preisen begrenzen\, um Mieten\, Stromrechnung und Lebensmittel bezahlbar machen. Dieses Format bietet eine Gelegenheit\, ihn und seine politischen Ziele kennenzulernen.
URL:https://moritzheuberger.de/termin/kneipenabend-2/
LOCATION:Rudi&Rosa\, Viktoriastraße 10\, Berlin\, 12105
CATEGORIES:Freibier
ATTACH;FMTTYPE=image/png:https://moritzheuberger.de/wp-content/uploads/2025/01/6.png
ORGANIZER;CN="Moritz Heuberger":MAILTO:moritz.heuberger@gruene-ts.de
END:VEVENT
BEGIN:VEVENT
DTSTART;TZID=UTC:20250125T140000
DTEND;TZID=UTC:20250125T170000
DTSTAMP:20260419T134054
CREATED:20250113T095721Z
LAST-MODIFIED:20250116T095804Z
UID:559-1737813600-1737824400@moritzheuberger.de
SUMMARY:„Europa im Kiez – Unterwegs mit Moritz Heuberger und Saskia Ellenbeck“
DESCRIPTION:Europa Erleben\n\n\n\nEntdecken Sie die Vielfalt von Tempelhof-Schöneberg und die Spuren Europas mitten in unserem Bezirk!  \n\n\n\nAm 25. Januar um 14:00 Uhr laden wir Sie herzlich ein zu einem Kiezspaziergang der besonderen Art. Gemeinsam mit Moritz Heuberger\, Bundestagskandidat für Tempelhof-Schöneberg\, und unsere Lokalpolitikerin Saskia Ellenbeck\, erkunden wir Orte\, Geschichten und Persönlichkeiten\, die unseren Kiez mit Europa verbinden. \n\n\n\n🌍 Worum geht’s?\n\n\n\n \n\n\n\nSpannende Anekdoten über Persönlichkeiten wie Marlene Dietrich\, Rosa Luxemburg und David Bowie\, die in unserem Bezirk lebten und wirkten.Wie Tempelhof-Schöneberg von der Europäischen Union profitiert – in Kultur\, Wirtschaft und sozialer Infrastruktur.Ein Blick auf politische Erfolge und Herausforderungen: Vom Einsatz für Klimaschutz bis zur Verhinderung der Autobahn nach Kreuzberg. \n\n\n\n🚶‍♀️ Treffpunkt:\n\n\n\nStart:Martin-Luther-Str. / Belziger sein \n\n\n\nLänge: 2\,2 km\, Dauer ca. 90 Minuten \n\n\n\nModeration und Gespräche: Moritz und Saskia nehmen Sie mit auf eine Reise durch Geschichte\, Gegenwart und Zukunft unseres Bezirks.Endpunkt: Ein lockeres Gespräch mit Gelegenheit für Ihre Fragen und Ideen. \n\n\n\n💬 Warum teilnehmen?\n\n\n\n \n\n\n\nErleben Sie\, wie die großen europäischen Zusammenhänge direkt in Ihrem Kiez sichtbar werden\, und erfahren Sie\, wofür sich Moritz Heuberger im Bundestag einsetzen will: Für ein Land\, das funktioniert\, und ein Leben\, das bezahlbar wird – in Tempelhof-Schöneberg und darüber hinaus. \n\n\n\n📅 Seien Sie dabei! \n\n\n\nKommen Sie vorbei und bringen Sie Freund*innen mit. Lassen Sie uns gemeinsam Tempelhof-Schöneberg aus einer neuen Perspektive entdecken. Wir freuen uns auf Sie!
URL:https://moritzheuberger.de/termin/europa-im-kiez-unterwegs-mit-moritz-heuberger-und-saskia-ellenbeck/
ATTACH;FMTTYPE=image/png:https://moritzheuberger.de/wp-content/uploads/2025/01/250125-Europa-Erleben-Spaziergang.png
ORGANIZER;CN="Moritz Heuberger":MAILTO:moritz.heuberger@gruene-ts.de
END:VEVENT
BEGIN:VEVENT
DTSTART;TZID=UTC:20250131T193000
DTEND;TZID=UTC:20250131T213000
DTSTAMP:20260419T134054
CREATED:20250113T091520Z
LAST-MODIFIED:20250129T113754Z
UID:550-1738351800-1738359000@moritzheuberger.de
SUMMARY:Kneipenabend
DESCRIPTION:Freibier mit Moritz Heuberger\n\n\n\nWie können Sie direkt mit Ihrem Bundestagskandidaten ins Gespräch kommen? Ganz einfach: Besuchen Sie einen unserer Kneipenabende im Bezirk! \n\n\n\n📍 Wo?  \n\n\n\nCafé ILOstan (verlegt von Resonanz!)Gustav-Freytag-Straße 5\, 10827 Schöneberg \n\n\n\n💬 Was erwartet Sie?\n\n\n\n\nEin lockeres Gespräch mit Moritz Heuberger\, Direktkandidat der Grünen für Tempelhof-Schöneberg bei der anstehenden Bundestagswahl\n\n\n\nDie erste Runde geht auf uns – ob Bier\, Alkoholfrei oder Limo.\n\n\n\nEine Möglichkeit\, Fragen zu stellen und ins Gespräch zu kommen.\n\n\n\n\n🍻Warum „Freibier“? \n\n\n\nMoritz Heuberger kämpft für ein Leben\, das bezahlbar ist – und das schließt auch ein erschwingliches Feierabendbier mit ein. Gerade in Zeiten von Inflation\, möchten wir den Anstieg von Preisen begrenzen\, um Mieten\, Stromrechnung und Lebensmittel bezahlbar machen. Dieses Format bietet eine Gelegenheit\, ihn und seine politischen Ziele kennenzulernen.
URL:https://moritzheuberger.de/termin/kneipenabend-3/
LOCATION:Café ILOstan\, Gustav-Freytag-Straße 5\, Berlin\, 10827\, Germany
CATEGORIES:Freibier
ATTACH;FMTTYPE=image/png:https://moritzheuberger.de/wp-content/uploads/2025/01/250131-FREIBIER-Cafe-IL-Ostan-Moritz.png
ORGANIZER;CN="Moritz Heuberger":MAILTO:moritz.heuberger@gruene-ts.de
END:VEVENT
END:VCALENDAR