BEGIN:VCALENDAR
VERSION:2.0
PRODID:-//Moritz Heuberger - ECPv6.15.20//NONSGML v1.0//EN
CALSCALE:GREGORIAN
METHOD:PUBLISH
X-WR-CALNAME:Moritz Heuberger
X-ORIGINAL-URL:https://moritzheuberger.de
X-WR-CALDESC:Veranstaltungen für Moritz Heuberger
REFRESH-INTERVAL;VALUE=DURATION:PT1H
X-Robots-Tag:noindex
X-PUBLISHED-TTL:PT1H
BEGIN:VTIMEZONE
TZID:UTC
BEGIN:STANDARD
TZOFFSETFROM:+0000
TZOFFSETTO:+0000
TZNAME:UTC
DTSTART:20240101T000000
END:STANDARD
END:VTIMEZONE
BEGIN:VEVENT
DTSTART;TZID=UTC:20250220T153000
DTEND;TZID=UTC:20250220T170000
DTSTAMP:20260419T133506
CREATED:20250208T091437Z
LAST-MODIFIED:20250208T095042Z
UID:791-1740065400-1740070800@moritzheuberger.de
SUMMARY:Kaffee\, Kuchen\, Politik
DESCRIPTION:Kaffee\, Kuchen\, Politik\n\n\n\nUnter diesem Motto lade ich Sie ganz herzlich nach Mariendorf ein. \n\n\n\nZehn Tage vor der Bundestagswahl kommt mit Ihnen ins Gespräch: Wo drückt der Schuh? Was bewegt Sie in Tempelhof\, Schöneberg\, Berlin und darüber hinaus? Kommen Sie auf einen Kaffee vorbei und bringen Sie all Ihre Fragen mit\, teilen Sie Ihre Erfahrungen und Gedanken. Los geht’s um 15:30 Uhr. \n\n\n\nNur gemeinsam schaffen wir einen wahren Aufbruch – für ein Leben\, das bezahlbar ist\, echten Klimaschutz\, einen Bezirk\, in dem wir gerne wohnen und ein Land\, das funktioniert. \n\n\n\nIch freue mich sehr auf unser Gespräch!
URL:https://moritzheuberger.de/termin/kaffee-kuchen-politik-2/
LOCATION:Park Café\, Rixdorfer Str. 165\, Berlin\, Berlin\, 12109
ATTACH;FMTTYPE=image/png:https://moritzheuberger.de/wp-content/uploads/2025/02/Kaffee-Kuchen-Politik-Mariendorf.png
END:VEVENT
BEGIN:VEVENT
DTSTART;TZID=UTC:20250220T193000
DTEND;TZID=UTC:20250220T210000
DTSTAMP:20260419T133506
CREATED:20250208T093154Z
LAST-MODIFIED:20250214T131231Z
UID:796-1740079800-1740085200@moritzheuberger.de
SUMMARY:Kneipenabend
DESCRIPTION:Freibier mit Moritz Heuberger\n\n\n\nWie können Sie direkt mit Ihrem Bundestagskandidaten ins Gespräch kommen? Ganz einfach: Besuchen Sie einen unserer Kneipenabende im Bezirk! \n\n\n\n📍 Wo?  \n\n\n\nHeckmeck Kneipe\, Schöneberg (Eisenacher Str. 111\, 10777 Berlin) \n\n\n\nBein Interesse freuen wir uns über Ihre Mail an kiezbuero@gruene-ts.de \n\n\n\n💬 Was erwartet Sie?\n\n\n\n\nEin lockeres Gespräch mit Moritz Heuberger\, Direktkandidat der Grünen für Tempelhof-Schöneberg bei der anstehenden Bundestagswahl\n\n\n\nDie erste Runde geht auf uns – ob Bier\, Alkoholfrei oder Limo.\n\n\n\nEine Möglichkeit\, Fragen zu stellen und ins Gespräch zu kommen.\n\n\n\n\n🍻 Warum „Freibier“? \n\n\n\nMoritz Heuberger kämpft für ein Leben\, das bezahlbar ist – und das schließt auch ein erschwingliches Feierabendbier mit ein. Gerade in Zeiten von Inflation\, möchten wir den Anstieg von Preisen begrenzen\, um Mieten\, Stromrechnung und Lebensmittel bezahlbar machen. Dieses Format bietet eine Gelegenheit\, ihn und seine politischen Ziele kennenzulernen.
URL:https://moritzheuberger.de/termin/kneipenabend/
LOCATION:Heckmeck Kneipe\, Eisenacherstraße 111\, Berlin\, 10777
ATTACH;FMTTYPE=image/png:https://moritzheuberger.de/wp-content/uploads/2025/02/250220-FREIBIER-Schoeneberg.png
END:VEVENT
END:VCALENDAR