BEGIN:VCALENDAR
VERSION:2.0
PRODID:-//Moritz Heuberger - ECPv6.15.20//NONSGML v1.0//EN
CALSCALE:GREGORIAN
METHOD:PUBLISH
X-WR-CALNAME:Moritz Heuberger
X-ORIGINAL-URL:https://moritzheuberger.de
X-WR-CALDESC:Veranstaltungen für Moritz Heuberger
REFRESH-INTERVAL;VALUE=DURATION:PT1H
X-Robots-Tag:noindex
X-PUBLISHED-TTL:PT1H
BEGIN:VTIMEZONE
TZID:UTC
BEGIN:STANDARD
TZOFFSETFROM:+0000
TZOFFSETTO:+0000
TZNAME:UTC
DTSTART:20240101T000000
END:STANDARD
END:VTIMEZONE
BEGIN:VEVENT
DTSTART;TZID=UTC:20250213T153000
DTEND;TZID=UTC:20250213T170000
DTSTAMP:20260419T133430
CREATED:20250121T134229Z
LAST-MODIFIED:20250210T195602Z
UID:661-1739460600-1739466000@moritzheuberger.de
SUMMARY:Kaffee\, Kuchen\, Politik
DESCRIPTION:Kaffee\, Kuchen\, Politik\n\n\n\nUnter diesem Motto lade ich Sie ganz herzlich in das Tempelhofer Café Pausini ein. \n\n\n\nZehn Tage vor der Bundestagswahl komme ich mit Ihnen ins Gespräch: \n\n\n\nWo drückt der Schuh? Was bewegt Sie in Tempelhof\, Schöneberg\, Berlin und darüber hinaus? \n\n\n\nKommen Sie auf einen Kaffee vorbei und bringen Sie all Ihre Fragen mit\, teilen Sie Ihre Erfahrungen und Gedanken. Los geht’s am 13. Februar um 15:30 Uhr. \n\n\n\nNur gemeinsam schaffen wir einen wahren Aufbruch – für ein Leben\, das bezahlbar ist\, echten Klimaschutz\, einen Bezirk\, in dem wir gerne wohnen und ein Land\, das funktioniert. \n\n\n\nWir freuen uns sehr auf unser Gespräch!
URL:https://moritzheuberger.de/termin/kaffee-kuchen-politik/
LOCATION:Pausini\, Kaiserin-Augusta-Straße 78\, Berlin\, 12103
ATTACH;FMTTYPE=image/png:https://moritzheuberger.de/wp-content/uploads/2025/01/Kaffee-Kuchen-Politik.png
ORGANIZER;CN="Moritz Heuberger":MAILTO:moritz.heuberger@gruene-ts.de
END:VEVENT
END:VCALENDAR