BEGIN:VCALENDAR
VERSION:2.0
PRODID:-//Moritz Heuberger - ECPv6.15.20//NONSGML v1.0//EN
CALSCALE:GREGORIAN
METHOD:PUBLISH
X-ORIGINAL-URL:https://moritzheuberger.de
X-WR-CALDESC:Veranstaltungen für Moritz Heuberger
REFRESH-INTERVAL;VALUE=DURATION:PT1H
X-Robots-Tag:noindex
X-PUBLISHED-TTL:PT1H
BEGIN:VTIMEZONE
TZID:UTC
BEGIN:STANDARD
TZOFFSETFROM:+0000
TZOFFSETTO:+0000
TZNAME:UTC
DTSTART:20240101T000000
END:STANDARD
END:VTIMEZONE
BEGIN:VEVENT
DTSTART;TZID=UTC:20250204T190000
DTEND;TZID=UTC:20250204T203000
DTSTAMP:20260419T133925
CREATED:20250121T133229Z
LAST-MODIFIED:20250131T102014Z
UID:652-1738695600-1738701000@moritzheuberger.de
SUMMARY:Wie modernisieren wir unseren Staat?
DESCRIPTION:Wie modernisieren wir unsere Verwaltung?\n\n\n\nDeutschland hängt bei der Verwaltungsmodernisierung hinterher – das spüren wir alle. Vom Faxgerät im Amt bis zu unendlichen Papierbergen: Es ist Zeit für einen Neustart! Wie schaffen wir eine Verwaltung\, die bürgerfreundlich\, schnell und digital ist? Welche konkreten Schritte braucht es\, um Deutschland ins digitale Zeitalter zu bringen? Darüber möchte ich\, Moritz Heuberger\, mit Ihnen sprechen und lade Sie herzlich zum Gespräch ein. \n\n\n\nMeine Gästin:\n\n\n\nChristina Lang\, Geschäftsführerin des DigitalService GmbH des Bundes \n\n\n\nDer DigitalService des Bundes ist die kreative Digitaleinheit unserer Regierung. Mit über 190 Expert:innen aus der Tech-Welt entwickeln sie Lösungen\, die das Leben einfacher machen und Vertrauen in unsere Verwaltung stärken. Von digitalen Anwendungen bis zu agiler Zusammenarbeit in Ministerien – Christina Lang bringt frische Ideen und wertvolle Einblicke mit. \n\n\n\n🗓 Wann? Dienstag\, 04.02.\, 19 Uhr \n\n\n\n📍 Wo? Kreisgeschäftsstelle\, Kolonnenstraße 53\, 10829 Berlin \n\n\n\nBringen Sie Ihre Ideen\, Erfahrungen und Fragen mit – wir wollen gemeinsam diskutieren\, wie wir unseren Staat ins 21. Jahrhundert führen. \n\n\n\nIch freue mich auf Sie und einen inspirierenden Abend!
URL:https://moritzheuberger.de/termin/digitaler-staat/
LOCATION:Kiezbüro\, Kolonnenstraße 53\, Berlin\, 10829
ATTACH;FMTTYPE=image/png:https://moritzheuberger.de/wp-content/uploads/2025/01/250204-Modernisieren-Website.png
ORGANIZER;CN="Kreisverband Tempelhof-Sch%C3%B6neberg":MAILTO:kiezbuero@gruene-ts.de
END:VEVENT
END:VCALENDAR