BEGIN:VCALENDAR
VERSION:2.0
PRODID:-//Moritz Heuberger - ECPv6.15.20//NONSGML v1.0//EN
CALSCALE:GREGORIAN
METHOD:PUBLISH
X-WR-CALNAME:Moritz Heuberger
X-ORIGINAL-URL:https://moritzheuberger.de
X-WR-CALDESC:Veranstaltungen für Moritz Heuberger
REFRESH-INTERVAL;VALUE=DURATION:PT1H
X-Robots-Tag:noindex
X-PUBLISHED-TTL:PT1H
BEGIN:VTIMEZONE
TZID:UTC
BEGIN:STANDARD
TZOFFSETFROM:+0000
TZOFFSETTO:+0000
TZNAME:UTC
DTSTART:20240101T000000
END:STANDARD
END:VTIMEZONE
BEGIN:VEVENT
DTSTART;TZID=UTC:20250123T193000
DTEND;TZID=UTC:20250123T210000
DTSTAMP:20260419T150607
CREATED:20250113T091218Z
LAST-MODIFIED:20250113T123854Z
UID:548-1737660600-1737666000@moritzheuberger.de
SUMMARY:Kneipenabend
DESCRIPTION:Freibier mit Moritz Heuberger\n\n\n\nWie können Sie direkt mit Ihrem Bundestagskandidaten ins Gespräch kommen? Ganz einfach: Besuchen Sie einen unserer Kneipenabende im Bezirk! \n\n\n\n📍 Wo?  \n\n\n\n \n\n\n\nRudi & RosaViktoriastraße 10\, 12105 Tempelhof \n\n\n\n💬 Was erwartet Sie?\n\n\n\n\nEin lockeres Gespräch mit Moritz Heuberger\, Direktkandidat der Grünen für Tempelhof-Schöneberg bei der anstehenden Bundestagswahl\n\n\n\nDie erste Runde geht auf uns – ob Bier\, Alkoholfrei oder Limo.\n\n\n\nEine Möglichkeit\, Fragen zu stellen und ins Gespräch zu kommen.\n\n\n\n\n🍻Warum „Freibier“? \n\n\n\nMoritz Heuberger kämpft für ein Leben\, das bezahlbar ist – und das schließt auch ein erschwingliches Feierabendbier mit ein. Gerade in Zeiten von Inflation\, möchten wir den Anstieg von Preisen begrenzen\, um Mieten\, Stromrechnung und Lebensmittel bezahlbar machen. Dieses Format bietet eine Gelegenheit\, ihn und seine politischen Ziele kennenzulernen.
URL:https://moritzheuberger.de/termin/kneipenabend-2/
LOCATION:Rudi&Rosa\, Viktoriastraße 10\, Berlin\, 12105
CATEGORIES:Freibier
ATTACH;FMTTYPE=image/png:https://moritzheuberger.de/wp-content/uploads/2025/01/6.png
ORGANIZER;CN="Moritz Heuberger":MAILTO:moritz.heuberger@gruene-ts.de
END:VEVENT
END:VCALENDAR